BEGIN:VCALENDAR
VERSION:2.0
PRODID:-//wp-events-plugin.com//7.2.3.1//EN
TZID:Europe/Berlin
X-WR-TIMEZONE:Europe/Berlin
BEGIN:VEVENT
UID:8145@awo-langenfeld.de
DTSTART;TZID=Europe/Berlin:20260401T160000
DTEND;TZID=Europe/Berlin:20260401T164500
DTSTAMP:20251130T090708Z
URL:https://awo-langenfeld.de/events/2fa-und-passkeys/
SUMMARY:Zwei-Faktor-Authentifizierung  und Passkeys
DESCRIPTION:In diesem Vortrag geht es und die Sicherheit von Konten im Inte
 rnet. Wir besprechen die Schwächen von einfachen Passwörtern und zeigen\
 , wie man die Sicherheit durch die Verwendung von "Zwei-Faktor-Authentifiz
 ierung" (2FA) und Passkeys erhöhen kann.
ATTACH;FMTTYPE=image/jpeg:https://awo-langenfeld.de/wp-content/uploads/202
 5/04/ai-generated-9349883_1280-Bild-von-Olena-auf-Pixabay.png
CATEGORIES:IT-Präsentation
LOCATION:Stadtbibliothek Langenfeld\, Hauptstraße 131\, Langenfeld\, 40764
 \, Deutschland
X-APPLE-STRUCTURED-LOCATION;VALUE=URI;X-ADDRESS=Hauptstraße 131\, Langenfe
 ld\, 40764\, Deutschland;X-APPLE-RADIUS=100;X-TITLE=Stadtbibliothek Langen
 feld:geo:0,0
END:VEVENT
BEGIN:VTIMEZONE
TZID:Europe/Berlin
X-LIC-LOCATION:Europe/Berlin
BEGIN:DAYLIGHT
DTSTART:20260329T030000
TZOFFSETFROM:+0100
TZOFFSETTO:+0200
TZNAME:CEST
END:DAYLIGHT
END:VTIMEZONE
END:VCALENDAR