BEGIN:VCALENDAR
VERSION:2.0
PRODID:-//wp-events-plugin.com//7.2.3.1//EN
TZID:Europe/Berlin
X-WR-TIMEZONE:Europe/Berlin
BEGIN:VEVENT
UID:8130@awo-langenfeld.de
DTSTART;TZID=Europe/Berlin:20260416T143000
DTEND;TZID=Europe/Berlin:20260416T160000
DTSTAMP:20260130T092252Z
URL:https://awo-langenfeld.de/events/cafe-cemeinsam-2026-04-16/
SUMMARY:Café Gemeinsam
DESCRIPTION:Dieses Angebot soll insbesondere die Begegnung von Menschen fö
 rdern. Ehrenamtliche des Ortvereins gestalten diesen Treffpunkt für Jung 
 und Alt und laden ein\, neue Leute kennen zu lernen und miteinander ins Ge
 spräch zu kommen.\n\n\n\n&nbsp\;\n\n&nbsp\;
ATTACH;FMTTYPE=image/jpeg:https://awo-langenfeld.de/wp-content/uploads/202
 5/11/Screenshot-2025-11-12-194412.png
CATEGORIES:Begegnung
LOCATION:Café am Wald\, Langfort 3\, Langenfeld\, 40764\, Deutschland
X-APPLE-STRUCTURED-LOCATION;VALUE=URI;X-ADDRESS=Langfort 3\, Langenfeld\, 4
 0764\, Deutschland;X-APPLE-RADIUS=100;X-TITLE=Café am Wald:geo:0,0
END:VEVENT
BEGIN:VTIMEZONE
TZID:Europe/Berlin
X-LIC-LOCATION:Europe/Berlin
BEGIN:DAYLIGHT
DTSTART:20260329T030000
TZOFFSETFROM:+0100
TZOFFSETTO:+0200
TZNAME:CEST
END:DAYLIGHT
END:VTIMEZONE
END:VCALENDAR