BEGIN:VCALENDAR
VERSION:2.0
PRODID:-//wp-events-plugin.com//7.2.3.1//EN
TZID:Europe/Berlin
X-WR-TIMEZONE:Europe/Berlin
BEGIN:VEVENT
UID:8153@awo-langenfeld.de
DTSTART;TZID=Europe/Berlin:20260805T160000
DTEND;TZID=Europe/Berlin:20260805T164500
DTSTAMP:20260417T084529Z
URL:https://awo-langenfeld.de/events/datenschutz-und-sicherheit-was-sollte
 -man-wissen/
SUMMARY:Datenschutz und Sicherheit: Was sollte man wissen.
DESCRIPTION:Heute geht es darum\, wie ich mich vor vielen fiesen Tricks der
  Hacker und auch der Internet-Branche schützen kann.\nWir schauen uns an\
 , wie man Email-Adressen\, Telefonnummern und anderen Kontaktdaten sicher 
 verwendet und wie man sich vor unerwünschter Werbung im Internet schütze
 n kann.
ATTACH;FMTTYPE=image/jpeg:https://awo-langenfeld.de/wp-content/uploads/202
 5/04/ai-generated-9349883_1280-Bild-von-Olena-auf-Pixabay.png
CATEGORIES:IT-Präsentation,Vortrag
LOCATION:Stadtbibliothek Langenfeld\, Hauptstraße 131\, Langenfeld\, 40764
 \, Deutschland
X-APPLE-STRUCTURED-LOCATION;VALUE=URI;X-ADDRESS=Hauptstraße 131\, Langenfe
 ld\, 40764\, Deutschland;X-APPLE-RADIUS=100;X-TITLE=Stadtbibliothek Langen
 feld:geo:0,0
END:VEVENT
BEGIN:VTIMEZONE
TZID:Europe/Berlin
X-LIC-LOCATION:Europe/Berlin
BEGIN:DAYLIGHT
DTSTART:20260329T030000
TZOFFSETFROM:+0100
TZOFFSETTO:+0200
TZNAME:CEST
END:DAYLIGHT
END:VTIMEZONE
END:VCALENDAR