BEGIN:VCALENDAR
VERSION:2.0
PRODID:-//wp-events-plugin.com//7.2.3.1//EN
TZID:Europe/Berlin
X-WR-TIMEZONE:Europe/Berlin
BEGIN:VEVENT
UID:8161@awo-langenfeld.de
DTSTART;TZID=Europe/Berlin:20261202T160000
DTEND;TZID=Europe/Berlin:20261202T164500
DTSTAMP:20260417T084626Z
URL:https://awo-langenfeld.de/events/datensicherung-von-notebook-und-smart
 phone/
SUMMARY:Datensicherung von Notebook und Smartphone
DESCRIPTION:Die Datensicherung von Notebook und Smartphone ist entscheidend
 \, um den Verlust wichtiger Informationen zu verhindern. Sie schützt vor 
 Datenverlust durch Hardwaredefekte\, Diebstahl oder versehentliches Lösch
 en und ermöglicht eine schnelle Wiederherstellung im Notfall. Außerdem t
 rägt sie zur Sicherheit sensibler Daten bei\, indem Backups oft verschlü
 sselt und an sicheren Orten gespeichert werden.
ATTACH;FMTTYPE=image/jpeg:https://awo-langenfeld.de/wp-content/uploads/202
 5/11/Datensicherung.jpg
CATEGORIES:IT-Präsentation,Vortrag
LOCATION:Stadtbibliothek Langenfeld\, Hauptstraße 131\, Langenfeld\, 40764
 \, Deutschland
X-APPLE-STRUCTURED-LOCATION;VALUE=URI;X-ADDRESS=Hauptstraße 131\, Langenfe
 ld\, 40764\, Deutschland;X-APPLE-RADIUS=100;X-TITLE=Stadtbibliothek Langen
 feld:geo:0,0
END:VEVENT
BEGIN:VTIMEZONE
TZID:Europe/Berlin
X-LIC-LOCATION:Europe/Berlin
BEGIN:STANDARD
DTSTART:20261025T020000
TZOFFSETFROM:+0200
TZOFFSETTO:+0100
TZNAME:CET
END:STANDARD
END:VTIMEZONE
END:VCALENDAR