BEGIN:VCALENDAR
VERSION:2.0
PRODID:-//wp-events-plugin.com//7.2.3.1//EN
TZID:Europe/Berlin
X-WR-TIMEZONE:Europe/Berlin
BEGIN:VEVENT
UID:8152@awo-langenfeld.de
DTSTART;TZID=Europe/Berlin:20260714T100000
DTEND;TZID=Europe/Berlin:20260714T104500
DTSTAMP:20260417T084529Z
URL:https://awo-langenfeld.de/events/einkaufen-im-internet-2/
SUMMARY:Einkaufen im Internet
DESCRIPTION:Sie würden auch mal gerne im Internet einkaufen\, fühlen sich
  aber unsicher? Dann kommen Sie zu unserer kostenlosen Präsentation "Eink
 aufen im Internet". Wir zeigen\, wie man Preise und Waren im Internet rech
 erchiert und geben Anhaltspunkte zur Beurteilung von Shops. Wir erklären 
 Zahlungs- und Liefermethoden und geben nützliche Tipps.
ATTACH;FMTTYPE=image/jpeg:https://awo-langenfeld.de/wp-content/uploads/202
 4/04/Vortrag-Einkaufen-im-Internet.jpg
CATEGORIES:IT-Präsentation,Vortrag
LOCATION:Stadtbibliothek Langenfeld\, Hauptstraße 131\, Langenfeld\, 40764
 \, Deutschland
X-APPLE-STRUCTURED-LOCATION;VALUE=URI;X-ADDRESS=Hauptstraße 131\, Langenfe
 ld\, 40764\, Deutschland;X-APPLE-RADIUS=100;X-TITLE=Stadtbibliothek Langen
 feld:geo:0,0
END:VEVENT
BEGIN:VTIMEZONE
TZID:Europe/Berlin
X-LIC-LOCATION:Europe/Berlin
BEGIN:DAYLIGHT
DTSTART:20260329T030000
TZOFFSETFROM:+0100
TZOFFSETTO:+0200
TZNAME:CEST
END:DAYLIGHT
END:VTIMEZONE
END:VCALENDAR