BEGIN:VCALENDAR
VERSION:2.0
PRODID:-//wp-events-plugin.com//7.2.3.1//EN
TZID:Europe/Berlin
X-WR-TIMEZONE:Europe/Berlin
BEGIN:VEVENT
UID:8160@awo-langenfeld.de
DTSTART;TZID=Europe/Berlin:20261117T100000
DTEND;TZID=Europe/Berlin:20261117T104500
DTSTAMP:20260417T084626Z
URL:https://awo-langenfeld.de/events/kaufberatung-pc-laptop-oder-smartphon
 e-handy/
SUMMARY:Kaufberatung PC\, Laptop oder Smartphone (Handy)
DESCRIPTION:Diese Frage beschäftigt viele.\n\nWarum brauche ich einen PC (
 Texte oder Bildbearbeitung)\, kann ich dieses nicht auch mit meinem Handy 
 machen?\n\nBrauche ich für eine Email ein Laptop? Und warum einen Filme n
 icht auf einem Tablet anschauen?\n\nAlle diese Computergattungen haben Vor
 - und Nachteile. Welche das sind\, erläutern wir Ihnen.\n\n
ATTACH;FMTTYPE=image/jpeg:https://awo-langenfeld.de/wp-content/uploads/202
 4/11/christmas-3688163_1280.jpg
CATEGORIES:IT-Präsentation,Vortrag
LOCATION:Stadtbibliothek Langenfeld\, Hauptstraße 131\, Langenfeld\, 40764
 \, Deutschland
X-APPLE-STRUCTURED-LOCATION;VALUE=URI;X-ADDRESS=Hauptstraße 131\, Langenfe
 ld\, 40764\, Deutschland;X-APPLE-RADIUS=100;X-TITLE=Stadtbibliothek Langen
 feld:geo:0,0
END:VEVENT
BEGIN:VTIMEZONE
TZID:Europe/Berlin
X-LIC-LOCATION:Europe/Berlin
BEGIN:STANDARD
DTSTART:20261025T020000
TZOFFSETFROM:+0200
TZOFFSETTO:+0100
TZNAME:CET
END:STANDARD
END:VTIMEZONE
END:VCALENDAR