BEGIN:VCALENDAR
VERSION:2.0
PRODID:-//wp-events-plugin.com//7.2.3.1//EN
TZID:Europe/Berlin
X-WR-TIMEZONE:Europe/Berlin
BEGIN:VEVENT
UID:8147@awo-langenfeld.de
DTSTART;TZID=Europe/Berlin:20260506T160000
DTEND;TZID=Europe/Berlin:20260506T164500
DTSTAMP:20260417T084354Z
URL:https://awo-langenfeld.de/events/kostenfreie-office-programme-2/
SUMMARY:Kostenfreie Office-Programme
DESCRIPTION:Muss es immer ein kostenpflichtiges Office-Produkt sein?\n\nKos
 tenfreie Office-Programme sind eine gute Alternative zu Microsoft Office\,
  weil sie keine Lizenzkosten verursachen und damit besonders für Privatpe
 rsonen oder kleinere Unternehmen attraktiv sind. Sie bieten alle wichtigen
  Funktionen wie Textverarbeitung\, Tabellenkalkulation und Präsentationen
  und sind mit gängigen Dateiformaten kompatibel. Zudem sind sie plattform
 unabhängig nutzbar und laufen auf Windows\, macOS\, Linux sowie mobilen G
 eräten.
ATTACH;FMTTYPE=image/jpeg:https://awo-langenfeld.de/wp-content/uploads/202
 4/04/Vortrag-Kostenfreie-Office-Programme.png
CATEGORIES:IT-Präsentation,Vortrag
LOCATION:Stadtbibliothek Langenfeld\, Hauptstraße 131\, Langenfeld\, 40764
 \, Deutschland
X-APPLE-STRUCTURED-LOCATION;VALUE=URI;X-ADDRESS=Hauptstraße 131\, Langenfe
 ld\, 40764\, Deutschland;X-APPLE-RADIUS=100;X-TITLE=Stadtbibliothek Langen
 feld:geo:0,0
END:VEVENT
BEGIN:VTIMEZONE
TZID:Europe/Berlin
X-LIC-LOCATION:Europe/Berlin
BEGIN:DAYLIGHT
DTSTART:20260329T030000
TZOFFSETFROM:+0100
TZOFFSETTO:+0200
TZNAME:CEST
END:DAYLIGHT
END:VTIMEZONE
END:VCALENDAR