BEGIN:VCALENDAR
VERSION:2.0
PRODID:-//wp-events-plugin.com//7.2.3.1//EN
TZID:Europe/Berlin
X-WR-TIMEZONE:Europe/Berlin
BEGIN:VEVENT
UID:8305@awo-langenfeld.de
DTSTART;TZID=Europe/Berlin:20260805T090000
DTEND;TZID=Europe/Berlin:20260805T090000
DTSTAMP:20260304T063745Z
URL:https://awo-langenfeld.de/events/landesgartenschau-in-neuss/
SUMMARY:Landesgartenschau in Neuss
DESCRIPTION:Erleben Sie bei einer einstündigen Führung die Highlights der
  Landesgartenschau:\n\n 	Beeindruckende Themengärten\n 	nachhaltige Pflan
 zkonzepte\n 	Landschaftsarchitektur\n\nLassen Sie sich begeistern von Baum
 - und Wiesenlandschaften\, einem Teich sowie einer Fülle von Biotopen\, f
 loristischen Hallen und Gartenkünsten.\n\nGenießen Sie einen entspannten
  Tag mit einzigartigen Erlebnissen für alle Sinne.\n\nAbfahrt:&nbsp\;&nbs
 p\;&nbsp\;&nbsp\;&nbsp\;&nbsp\;&nbsp\;&nbsp\;&nbsp\;&nbsp\;&nbsp\;&nbsp\;&
 nbsp\;&nbsp\;&nbsp\;&nbsp\;&nbsp\;&nbsp\;&nbsp\;&nbsp\; 09:00 Uhr\nRückan
 kunft:&nbsp\;&nbsp\;&nbsp\;&nbsp\;&nbsp\;&nbsp\;&nbsp\;&nbsp\;&nbsp\;&nbsp
 \;&nbsp\; 18:00 Uhr\nPreis:&nbsp\;&nbsp\;&nbsp\;&nbsp\;&nbsp\;&nbsp\;&nbsp
 \;&nbsp\;&nbsp\;&nbsp\;&nbsp\;&nbsp\;&nbsp\;&nbsp\;&nbsp\;&nbsp\;&nbsp\;&n
 bsp\;&nbsp\;&nbsp\;&nbsp\;&nbsp\;&nbsp\;&nbsp\; 45\,00 €
ATTACH;FMTTYPE=image/jpeg:https://awo-langenfeld.de/wp-content/uploads/202
 6/03/Landesgartenschau.jpg
CATEGORIES:Reisen
END:VEVENT
BEGIN:VTIMEZONE
TZID:Europe/Berlin
X-LIC-LOCATION:Europe/Berlin
BEGIN:DAYLIGHT
DTSTART:20260329T030000
TZOFFSETFROM:+0100
TZOFFSETTO:+0200
TZNAME:CEST
END:DAYLIGHT
END:VTIMEZONE
END:VCALENDAR