BEGIN:VCALENDAR
VERSION:2.0
PRODID:-//wp-events-plugin.com//7.2.3.1//EN
TZID:Europe/Berlin
X-WR-TIMEZONE:Europe/Berlin
BEGIN:VEVENT
UID:8151@awo-langenfeld.de
DTSTART;TZID=Europe/Berlin:20260701T160000
DTEND;TZID=Europe/Berlin:20260701T164500
DTSTAMP:20260417T084529Z
URL:https://awo-langenfeld.de/events/speichern-im-internet-cloud/
SUMMARY:Speichern im Internet (Cloud)
DESCRIPTION:Jeder mit einem Smartphone nutzt heutzutage unbewusst Dienste a
 us dem Internet und speichert dort Daten. In diesem Vortrag gibt es einen 
 Überblick über die Dienstleistungen von Internetanbietern und wie ich di
 ese zu meinem Vorteil nutzen kann. Dies wird insbesondere am Beispiel der 
 Sicherung von Smartphone-Fotos erklärt.
ATTACH;FMTTYPE=image/jpeg:https://awo-langenfeld.de/wp-content/uploads/202
 4/04/Vortrag-Speichern-im-Internet.png
CATEGORIES:IT-Präsentation,Vortrag
LOCATION:Stadtbibliothek Langenfeld\, Hauptstraße 131\, Langenfeld\, 40764
 \, Deutschland
X-APPLE-STRUCTURED-LOCATION;VALUE=URI;X-ADDRESS=Hauptstraße 131\, Langenfe
 ld\, 40764\, Deutschland;X-APPLE-RADIUS=100;X-TITLE=Stadtbibliothek Langen
 feld:geo:0,0
END:VEVENT
BEGIN:VTIMEZONE
TZID:Europe/Berlin
X-LIC-LOCATION:Europe/Berlin
BEGIN:DAYLIGHT
DTSTART:20260329T030000
TZOFFSETFROM:+0100
TZOFFSETTO:+0200
TZNAME:CEST
END:DAYLIGHT
END:VTIMEZONE
END:VCALENDAR