BEGIN:VCALENDAR
VERSION:2.0
PRODID:-//wp-events-plugin.com//7.2.3.1//EN
TZID:Europe/Berlin
X-WR-TIMEZONE:Europe/Berlin
BEGIN:VEVENT
UID:8156@awo-langenfeld.de
DTSTART;TZID=Europe/Berlin:20260915T100000
DTEND;TZID=Europe/Berlin:20260915T104500
DTSTAMP:20260417T084626Z
URL:https://awo-langenfeld.de/events/tabellen-und-mehr/
SUMMARY:Tabellen und mehr
DESCRIPTION:Diese Info-Veranstaltung ermöglicht einen Schnelleinstieg in d
 as Einmaleins der Tabellengestaltung mit Tabellenkalkulations-Programmen. 
 Sie lernen den Umgang mit dem Programm\, die Eingabe und Gestaltung einfac
 her Tabellen. Dabei erfahren Sie\, dass einfache Berechnungen sowie die an
 sprechende Darstellung der Ergebnisse keineswegs eine Hexerei sind\, sonde
 rn schnell erlernt werden können.\n\n&nbsp\;\n\nUm Anmeldung wird gebeten
 .\n\nIn der Bibliothek Langenfeld: Telefon: 02173 7944242
ATTACH;FMTTYPE=image/jpeg:https://awo-langenfeld.de/wp-content/uploads/202
 4/04/Screenshot-2024-04-04-120025.jpg
CATEGORIES:IT-Präsentation,Vortrag
LOCATION:Stadtbibliothek Langenfeld\, Hauptstraße 131\, Langenfeld\, 40764
 \, Deutschland
X-APPLE-STRUCTURED-LOCATION;VALUE=URI;X-ADDRESS=Hauptstraße 131\, Langenfe
 ld\, 40764\, Deutschland;X-APPLE-RADIUS=100;X-TITLE=Stadtbibliothek Langen
 feld:geo:0,0
END:VEVENT
BEGIN:VTIMEZONE
TZID:Europe/Berlin
X-LIC-LOCATION:Europe/Berlin
BEGIN:DAYLIGHT
DTSTART:20260329T030000
TZOFFSETFROM:+0100
TZOFFSETTO:+0200
TZNAME:CEST
END:DAYLIGHT
END:VTIMEZONE
END:VCALENDAR