BEGIN:VCALENDAR
VERSION:2.0
PRODID:-//wp-events-plugin.com//7.2.3.1//EN
TZID:Europe/Berlin
X-WR-TIMEZONE:Europe/Berlin
BEGIN:VEVENT
UID:2454@awo-langenfeld.de
DTSTART;TZID=Europe/Berlin:20231004T160000
DTEND;TZID=Europe/Berlin:20231004T164500
DTSTAMP:20230920T073159Z
URL:https://awo-langenfeld.de/events/vortrag-textverarbeitung/
SUMMARY:Vortrag: Textverarbeitung
DESCRIPTION:\n\nSie sind Computer-Neulinge oder möchten Ihr Wissen in der 
 Textverarbeitung auffrischen? Dann sind Sie bei unserem Vortrag genau rich
 tig!\n\n \n\nIn unserem Vortrag lernen Sie die Grundlagen der Textverarbei
 tung kennen. Sie erfahren\, wie Sie Texte erstellen\, formatieren und bear
 beiten. Außerdem zeigen wir Ihnen\, wie Sie Tabellen\, Bilder und Grafike
 n in Ihre Texte einfügen.\n\nUm Anmeldung wird gebeten.\n\n&nbsp\;\n\n
ATTACH;FMTTYPE=image/jpeg:https://awo-langenfeld.de/wp-content/uploads/202
 3/08/fax-1889056_1280.jpg
CATEGORIES:Vortrag
LOCATION:Raum 111\, Grünstraße 6\, Langenfeld\, 40764\, Deutschland
X-APPLE-STRUCTURED-LOCATION;VALUE=URI;X-ADDRESS=Grünstraße 6\, Langenfeld
 \, 40764\, Deutschland;X-APPLE-RADIUS=100;X-TITLE=Raum 111:geo:0,0
END:VEVENT
BEGIN:VTIMEZONE
TZID:Europe/Berlin
X-LIC-LOCATION:Europe/Berlin
BEGIN:DAYLIGHT
DTSTART:20230326T030000
TZOFFSETFROM:+0100
TZOFFSETTO:+0200
TZNAME:CEST
END:DAYLIGHT
END:VTIMEZONE
END:VCALENDAR