BEGIN:VCALENDAR
VERSION:2.0
PRODID:-//wp-events-plugin.com//7.2.3.1//EN
TZID:Europe/Berlin
X-WR-TIMEZONE:Europe/Berlin
BEGIN:VEVENT
UID:6555@awo-langenfeld.de
DTSTART;TZID=Europe/Berlin:20250103T131500
DTEND;TZID=Europe/Berlin:20250103T180000
DTSTAMP:20240907T110815Z
URL:https://awo-langenfeld.de/events/weihnachtszirkus-in-duesseldorf/
SUMMARY:Weihnachtszirkus in Düsseldorf
DESCRIPTION:Fahrt zum Weihnachtscircus Düsseldorf\n\nWeihnachtszeit ist Zi
 rkuszeit\, so lautet das Motto.\n\nWeihnachtscircus auf dem Staufenplatz i
 n Düsseldorf im größten Rundkuppelzelt Deutschlands.\n\nLassen Sie sic
 h verzaubern von Comedy-Acts und atemberaubender Akrobatik von Top Artist
 en aus der ganzen Welt sowie einer Live-Band.\n\nDenken Sie bitte an ein 
 Sitzkissen.\n\nAbfahrt                    13:15 Uhr\n\n
 Rückankunft ca.     18:00 Uhr\n\nPreis               
            56\,00 €
ATTACH;FMTTYPE=image/jpeg:https://awo-langenfeld.de/wp-content/uploads/202
 4/09/Zirkuszelt.jpeg
CATEGORIES:Reisen
END:VEVENT
BEGIN:VTIMEZONE
TZID:Europe/Berlin
X-LIC-LOCATION:Europe/Berlin
BEGIN:STANDARD
DTSTART:20241027T020000
TZOFFSETFROM:+0200
TZOFFSETTO:+0100
TZNAME:CET
END:STANDARD
END:VTIMEZONE
END:VCALENDAR