BEGIN:VCALENDAR
VERSION:2.0
PRODID:-//wp-events-plugin.com//7.2.3.1//EN
TZID:Europe/Berlin
X-WR-TIMEZONE:Europe/Berlin
BEGIN:VEVENT
UID:8146@awo-langenfeld.de
DTSTART;TZID=Europe/Berlin:20260414T100000
DTEND;TZID=Europe/Berlin:20260414T104500
DTSTAMP:20251209T171803Z
URL:https://awo-langenfeld.de/events/wie-kann-ich-selbst-die-kuenstliche-i
 ntelligenz-nutzen/
SUMMARY:Wie kann ich selbst die künstliche Intelligenz nutzen
DESCRIPTION:Verständliche Einführung in das Thema Künstliche Intelligenz
 .\n\nLive Demonstrationen und praktische Übungen mit Chatbots und Bildgen
 eratoren.\n\nTipps zur sinnvollen Nutzung im Alltag.
ATTACH;FMTTYPE=image/jpeg:https://awo-langenfeld.de/wp-content/uploads/202
 5/03/KI.jpg
CATEGORIES:IT-Präsentation
LOCATION:Stadtbibliothek Langenfeld\, Hauptstraße 131\, Langenfeld\, 40764
 \, Deutschland
X-APPLE-STRUCTURED-LOCATION;VALUE=URI;X-ADDRESS=Hauptstraße 131\, Langenfe
 ld\, 40764\, Deutschland;X-APPLE-RADIUS=100;X-TITLE=Stadtbibliothek Langen
 feld:geo:0,0
END:VEVENT
BEGIN:VTIMEZONE
TZID:Europe/Berlin
X-LIC-LOCATION:Europe/Berlin
BEGIN:DAYLIGHT
DTSTART:20260329T030000
TZOFFSETFROM:+0100
TZOFFSETTO:+0200
TZNAME:CEST
END:DAYLIGHT
END:VTIMEZONE
END:VCALENDAR